BEGIN:VCALENDAR
VERSION:2.0
PRODID:-// - ECPv6.15.20//NONSGML v1.0//EN
CALSCALE:GREGORIAN
METHOD:PUBLISH
X-ORIGINAL-URL:https://wyomingcountyspca.org
X-WR-CALDESC:Events for 
REFRESH-INTERVAL;VALUE=DURATION:PT1H
X-Robots-Tag:noindex
X-PUBLISHED-TTL:PT1H
BEGIN:VTIMEZONE
TZID:America/Halifax
BEGIN:DAYLIGHT
TZOFFSETFROM:-0400
TZOFFSETTO:-0300
TZNAME:ADT
DTSTART:20250309T060000
END:DAYLIGHT
BEGIN:STANDARD
TZOFFSETFROM:-0300
TZOFFSETTO:-0400
TZNAME:AST
DTSTART:20251102T050000
END:STANDARD
BEGIN:DAYLIGHT
TZOFFSETFROM:-0400
TZOFFSETTO:-0300
TZNAME:ADT
DTSTART:20260308T060000
END:DAYLIGHT
BEGIN:STANDARD
TZOFFSETFROM:-0300
TZOFFSETTO:-0400
TZNAME:AST
DTSTART:20261101T050000
END:STANDARD
BEGIN:DAYLIGHT
TZOFFSETFROM:-0400
TZOFFSETTO:-0300
TZNAME:ADT
DTSTART:20270314T060000
END:DAYLIGHT
BEGIN:STANDARD
TZOFFSETFROM:-0300
TZOFFSETTO:-0400
TZNAME:AST
DTSTART:20271107T050000
END:STANDARD
END:VTIMEZONE
BEGIN:VEVENT
DTSTART;TZID=America/Halifax:20260531T120000
DTEND;TZID=America/Halifax:20260531T150000
DTSTAMP:20260420T045431
CREATED:20251231T145252Z
LAST-MODIFIED:20251231T145252Z
UID:540-1780228800-1780239600@wyomingcountyspca.org
SUMMARY:38th Annual Basket Raffle
DESCRIPTION:Join us for our annual Basket Raffle on May 31st! We will have over 100 baskets\, gift cards and MANY big ticket items to win!\nWe will have food and drinks(pop and water) for purchase\, as well as a bake sale. Every ticket purchased directly supports the cats and dogs who come through our shelter\, helping provide food\, medical care\, and a safe place to stay while they wait for their forever homes.\nBring your friends\, cash\, and luck! We can’t wait to see you there!
URL:https://wyomingcountyspca.org/event/38th-annual-basket-raffle/
LOCATION:St. Vincent’s Auditorium\, 72 East Ave\, Attica\, NY\, 14011\, United States
END:VEVENT
END:VCALENDAR