BEGIN:VCALENDAR
VERSION:2.0
PRODID:-// - ECPv6.15.20//NONSGML v1.0//EN
CALSCALE:GREGORIAN
METHOD:PUBLISH
X-ORIGINAL-URL:https://wyomingcountyspca.org
X-WR-CALDESC:Events for 
REFRESH-INTERVAL;VALUE=DURATION:PT1H
X-Robots-Tag:noindex
X-PUBLISHED-TTL:PT1H
BEGIN:VTIMEZONE
TZID:America/Halifax
BEGIN:DAYLIGHT
TZOFFSETFROM:-0400
TZOFFSETTO:-0300
TZNAME:ADT
DTSTART:20240310T060000
END:DAYLIGHT
BEGIN:STANDARD
TZOFFSETFROM:-0300
TZOFFSETTO:-0400
TZNAME:AST
DTSTART:20241103T050000
END:STANDARD
BEGIN:DAYLIGHT
TZOFFSETFROM:-0400
TZOFFSETTO:-0300
TZNAME:ADT
DTSTART:20250309T060000
END:DAYLIGHT
BEGIN:STANDARD
TZOFFSETFROM:-0300
TZOFFSETTO:-0400
TZNAME:AST
DTSTART:20251102T050000
END:STANDARD
BEGIN:DAYLIGHT
TZOFFSETFROM:-0400
TZOFFSETTO:-0300
TZNAME:ADT
DTSTART:20260308T060000
END:DAYLIGHT
BEGIN:STANDARD
TZOFFSETFROM:-0300
TZOFFSETTO:-0400
TZNAME:AST
DTSTART:20261101T050000
END:STANDARD
END:VTIMEZONE
BEGIN:VEVENT
DTSTART;TZID=America/Halifax:20250715T191600
DTEND;TZID=America/Halifax:20250716T235900
DTSTAMP:20260422T185556
CREATED:20250708T211515Z
LAST-MODIFIED:20250708T212356Z
UID:461-1752606960-1752710340@wyomingcountyspca.org
SUMMARY:Give 716!
DESCRIPTION:Saving one Paw at a Time\n\nSPCA of Wyoming County – Saving Lives Together \nThe SPCA of Wyoming County has had an incredibly busy and rewarding year. In 2024 alone\, we found loving forever homes for over 225 dogs and cats. As a small\, rural shelter located in Attica\, NY\, we receive no funding from the county or state. That means we rely entirely on the generosity of our community to continue rescuing and caring for animals in need. \nWith your support\, even more animals can be given a second chance—just like Chase. \nChase was just a 5-month-old puppy living on the streets of Buffalo. He suffered from ringworm and painful skin wounds. But thanks to your donations\, we were able to bring him to safety\, provide the medication and care he needed\, and give him a fresh start. Today\, Chase is healthy\, neutered\, and ready to find the loving home he deserves. \nIn 2025\, we hosted 25 spay/neuter clinics at our shelter and helped over 600 animals. These low-cost clinics provided our community with an affordable way to spay and neuter their pets—an important step in preventing unwanted litters and improving animal welfare. \nThanks to a generous grant from Bailey & Friends\, we built a new surgical station right here at our shelter. This addition allows us to continue providing these essential services to our community more effectively. \nWe also made important upgrades to our dog yard by redoing the entire drainage system. Now\, dogs like Chase can enjoy outdoor time in a safe\, clean space—helping them heal emotionally and physically during their stay. \nWe’re not done yet—and we need your help to continue this life-saving work. \nYour gift helps us rescue\, rehabilitate\, and rehome more animals. It brings hope to the hopeless and gives dogs and cats like Chase the future they deserve.
URL:https://wyomingcountyspca.org/event/give-716-2025/
ATTACH;FMTTYPE=image/png:https://wyomingcountyspca.org/wp-content/uploads/2025/07/Give7162025.png
END:VEVENT
BEGIN:VEVENT
DTSTART;TZID=America/Halifax:20250626T170000
DTEND;TZID=America/Halifax:20250626T210000
DTSTAMP:20260422T185556
CREATED:20250527T212609Z
LAST-MODIFIED:20250527T173905Z
UID:319-1750957200-1750971600@wyomingcountyspca.org
SUMMARY:Bark in the Park Night 2025
DESCRIPTION:Bark in the Park Night(friendly\, well behaved dogs can attend this night)\nWe are selling 50/50 tickets to benefit the animals at the shelter ! Come cheer on the Muck Dogs\, and help shelter dogs and cats! \n 
URL:https://wyomingcountyspca.org/event/bark-in-the-park-night-2025/
LOCATION:Dwyer Stadium\, 299 Bank St.\, Batavia\, NY\, 14020\, United States
END:VEVENT
END:VCALENDAR