BEGIN:VCALENDAR
VERSION:2.0
PRODID:-// - ECPv6.15.20//NONSGML v1.0//EN
CALSCALE:GREGORIAN
METHOD:PUBLISH
X-ORIGINAL-URL:https://wyomingcountyspca.org
X-WR-CALDESC:Events for 
REFRESH-INTERVAL;VALUE=DURATION:PT1H
X-Robots-Tag:noindex
X-PUBLISHED-TTL:PT1H
BEGIN:VTIMEZONE
TZID:America/Halifax
BEGIN:DAYLIGHT
TZOFFSETFROM:-0400
TZOFFSETTO:-0300
TZNAME:ADT
DTSTART:20240310T060000
END:DAYLIGHT
BEGIN:STANDARD
TZOFFSETFROM:-0300
TZOFFSETTO:-0400
TZNAME:AST
DTSTART:20241103T050000
END:STANDARD
BEGIN:DAYLIGHT
TZOFFSETFROM:-0400
TZOFFSETTO:-0300
TZNAME:ADT
DTSTART:20250309T060000
END:DAYLIGHT
BEGIN:STANDARD
TZOFFSETFROM:-0300
TZOFFSETTO:-0400
TZNAME:AST
DTSTART:20251102T050000
END:STANDARD
BEGIN:DAYLIGHT
TZOFFSETFROM:-0400
TZOFFSETTO:-0300
TZNAME:ADT
DTSTART:20260308T060000
END:DAYLIGHT
BEGIN:STANDARD
TZOFFSETFROM:-0300
TZOFFSETTO:-0400
TZNAME:AST
DTSTART:20261101T050000
END:STANDARD
END:VTIMEZONE
BEGIN:VEVENT
DTSTART;TZID=America/Halifax:20251026T100000
DTEND;TZID=America/Halifax:20251026T130000
DTSTAMP:20260422T105528
CREATED:20251004T142037Z
LAST-MODIFIED:20251004T142037Z
UID:504-1761472800-1761483600@wyomingcountyspca.org
SUMMARY:Paws for a Purpose - Hosted by Restore
DESCRIPTION:Join us October 26th from 10am to 1pm\nLocation – Perry Village Park/Firefighter Building Parking Lot\nThey will have food trucks\, venders\, basket raffles\, and more!\nWe will have a table set up and adoptable animals with us.\nStop out and say hi! We will have t-shirts for sale as well.
URL:https://wyomingcountyspca.org/event/paws-for-a-purpose-hosted-by-restore/
LOCATION:Perry Village Park\, Lake St\, Perry\, NY\, 14530\, United States
END:VEVENT
END:VCALENDAR